BEGIN:VCALENDAR
VERSION:2.0
PRODID:-//SEXTASIS - ECPv6.15.20//NONSGML v1.0//EN
CALSCALE:GREGORIAN
METHOD:PUBLISH
X-WR-CALNAME:SEXTASIS
X-ORIGINAL-URL:https://feriabdsm.com
X-WR-CALDESC:Events for SEXTASIS
REFRESH-INTERVAL;VALUE=DURATION:PT1H
X-Robots-Tag:noindex
X-PUBLISHED-TTL:PT1H
BEGIN:VTIMEZONE
TZID:America/Montevideo
BEGIN:STANDARD
TZOFFSETFROM:-0300
TZOFFSETTO:-0300
TZNAME:-03
DTSTART:20250101T000000
END:STANDARD
END:VTIMEZONE
BEGIN:VEVENT
DTSTART;TZID=America/Montevideo:20260425T190000
DTEND;TZID=America/Montevideo:20260425T210000
DTSTAMP:20260423T085526
CREATED:20260409T131937Z
LAST-MODIFIED:20260409T131937Z
UID:4135-1777143600-1777150800@feriabdsm.com
SUMMARY:Shibari Nights
DESCRIPTION:Lo que no se práctica\, se pierde. Después de años de hacer talleres decidimos probar este formato. \nLa idea es juntarse un rato todas las semanas para practicar shibari en grupo. \nPara practicantes iniciales: tenemos un grupo inicial donde podés aprender los fundamentos de nuestro estilo \nPara practicantes intermedios: tenemos propuestas técnicas e instructores para aclarar dudas o revisar técnica. \nPara practicantes avanzados: tenemos espacio para practicar con puntos de suspension e instructores para ayudar. \nPara todos: Muchas personas no tienen con quien practicar\, no tienen donde o no se motivan para practicar seguido. Está es la solución. \nNos manejamos con una suscripción o se puede pagar cada encuentro de forma individual. La suscripción incluye acceso a un grupo de Telegram de soporte y descuento en otras actividades de Shibari Uruguay.
URL:https://feriabdsm.com/event/shibari-nights-3/
CATEGORIES:Shibari
ATTACH;FMTTYPE=image/jpeg:https://feriabdsm.com/wp-content/uploads/2026/04/Shibari-nights.jpg
END:VEVENT
BEGIN:VEVENT
DTSTART;TZID=America/Montevideo:20260509T220000
DTEND;TZID=America/Montevideo:20260510T050000
DTSTAMP:20260423T085526
CREATED:20260409T200132Z
LAST-MODIFIED:20260409T200132Z
UID:4137-1778364000-1778389200@feriabdsm.com
SUMMARY:Play Party: Mazmorrra Subterranea
DESCRIPTION:Hay puertas que no se abren con llaves…\nsino con deseo\, curiosidad… y un poco de oscuridad. 🔥 \nEste 9 de mayo\, Sombras UY te invita a descender a un espacio donde los límites se exploran\, los roles se descubren y la noche se vuelve infinita… \nMAZMORRA SUBTERRÁNEA – PLAY PARTY\nUna experiencia +18 exclusiva para quienes buscan vivir el BDSM desde el respeto\, el consentimiento y la intensidad. \nUna Play Party como nunca antes.\nUn ambiente cuidado\, seguro y pensado para explorar\, conocer y conectar con personas de la comunidad. \n🗓 Sábado 9 de Mayo\n🕙 22 hs a 5 hs\n📍 Dirección enviada 24 hs antes del evento\n🔞 Evento exclusivo +18\n📍Zona Reducto – Montevideo \n💸 Entradas:\n• Individual: $800\n• Dos entradas: $1400 \n💳 Formas de pago:\n• Transferencia\n• Mercado Pago (abonando el interés de la plataforma) \nLos cupos son limitados…\nY algunas puertas\, cuando se cierran… no vuelven a abrirse. 🖤 \nReservá tu lugar y sé parte de una noche donde la fantasía se vuelve realidad.
URL:https://feriabdsm.com/event/play-party-mazmorrra-subterranea/
CATEGORIES:BDSM,Play Party
ATTACH;FMTTYPE=image/jpeg:https://feriabdsm.com/wp-content/uploads/2026/04/play-party.jpg
END:VEVENT
BEGIN:VEVENT
DTSTART;TZID=America/Montevideo:20260516T180000
DTEND;TZID=America/Montevideo:20260516T210000
DTSTAMP:20260423T085526
CREATED:20260414T113552Z
LAST-MODIFIED:20260414T114552Z
UID:4153-1778954400-1778965200@feriabdsm.com
SUMMARY:Kinbaku Performance
DESCRIPTION:Te invitamos a vivir una experiencia única donde el arte del shibari cobra vida a través de dos performances íntimas y cautivadoras. \n📍 Lugar: VITI\, Colón 1543\n🗓️ Fecha: Sábado 16 de Mayo\n🕕 Apertura de puertas: 6pm\n🕖 Primera performance: 7pm (se agradece puntualidad) \nDurante la noche podrás disfrutar de dos presentaciones a cargo de: \n@rembrandt_shibari & @s_kida_\n@lina_shibari & @natiiggomez \nEl evento contará con barra disponible para bebidas y opciones para picar. \n📸 Están permitidas las fotos y videos.\n🎁 Además\, realizaremos sorteos de: 1 sesión y 1 clase de shibari \n🎟️ Valor de la entrada: $400\n🔞 Evento exclusivo para mayores de 18 años.\nNos reservamos el derecho de admisión y permanencia. \n⚠️ Acceso únicamente con entradas anticipadas por mensaje directo.
URL:https://feriabdsm.com/event/kinbaku-performance/
LOCATION:VITI\, Colón 1543\, Montevideo\, Uruguay
CATEGORIES:Demostración/Performance,Shibari
ATTACH;FMTTYPE=image/jpeg:https://feriabdsm.com/wp-content/uploads/2026/04/kinbaku.jpg
END:VEVENT
END:VCALENDAR